BEGIN:VCALENDAR
VERSION:2.0
PRODID:-//eventon.com NONSGML v1.0//EN
CALSCALE:GREGORIAN
METHOD:PUBLISH
BEGIN:VEVENT
UID:69eb9a9932d52
DTSTAMP:20260424T163017Z
DTSTART:20200305T110000Z
DTEND:20200308T190000Z
LOCATION:
SUMMARY:SCOPE Art Fair New York 2020 March 5-8
DESCRIPTION:SCOPE Art Fair New York 2020 March 5-8 Thursday\,  Mar 5\,  202
 012:00 PM Sun\,  Mar 8\,  20201:00 PM Metropolitan Pavilion\,  125 W 18th S
 tNew York\,  NY The 20th edition of SCOPE New York returns to its Chelsea l
 ocation at Metropolitan Pavilion. Known for presenting groundbreaking conte
 mporary work\,  SCOPE New York[..]\nhttps://meetmeattheopera.com/events/sco
 pe-art-fair-new-york-2020-march-5-8/
URL:https://meetmeattheopera.com/events/scope-art-fair-new-york-2020-march-5-8/
END:VEVENT
END:VCALENDAR