BEGIN:VCALENDAR
VERSION:2.0
PRODID:-//eventon.com NONSGML v1.0//EN
CALSCALE:GREGORIAN
METHOD:PUBLISH
BEGIN:VEVENT
UID:69eaae7a9caef
DTSTAMP:20260423T234250Z
DTSTART:20191108T193000Z
DTEND:20191108T223000Z
LOCATION:New York NYIT Auditorium on Broadway 1871 Broadway
SUMMARY:New York Premieres: Gustav Mahler Two New Films by Jason Starr
DESCRIPTION:Event  New York Premiere : Two New Gustav Mahler films by mo
 vie director Jason Starr. &#8220;On Mahler&#8217;s Songs of a Wayfarer&#822
 1; &#8220;Mahler&#8217;s Titan: The Romance\,  Death and Triumph of a Young
  Musician&#8221; When  November 8th  7:30pm Where  New York NYIT Audi
 torium on Broadway\,  at 1871 Broadway (at 62nd Street) What to expect:  F
 ilm screening. Q &amp;[..]\nhttps://meetmeattheopera.com/events/new-york-p
 remieres-gustav-mahler-two-new-films-by-jason-starr/
URL:https://meetmeattheopera.com/events/new-york-premieres-gustav-mahler-two-new-films-by-jason-starr/
END:VEVENT
END:VCALENDAR