BEGIN:VCALENDAR
VERSION:2.0
PRODID:-//eventon.com NONSGML v1.0//EN
CALSCALE:GREGORIAN
METHOD:PUBLISH
BEGIN:VEVENT
UID:69ed2df80528e
DTSTAMP:20260425T211120Z
DTSTART:20190513T180000Z
DTEND:20190513T230000Z
LOCATION:Jacob K. Javits Convention Center New York 655 West 34th St.\,  New York.
SUMMARY:Robin Hood Foundation Benefit\,  May 13\,  New York City
DESCRIPTION: Robin Hood Foundation Benefit\,  May 13\,  New York City Robi
 n Hood Foundation Benefit\,  May 13\,  New York City One of the biggest fun
 draiser&#8217;s of the year\,  last year Rihanna performed for the crowd. W
 ho To Expect: Every moneyed hedge funder in New York City shows up to this 
 event\,  for[..]\nhttps://meetmeattheopera.com/events/robin-hood-foundation
 -benefit-may-13-new-york-city/
URL:https://meetmeattheopera.com/events/robin-hood-foundation-benefit-may-13-new-york-city/
END:VEVENT
END:VCALENDAR