BEGIN:VCALENDAR
VERSION:2.0
PRODID:-//eventon.com NONSGML v1.0//EN
CALSCALE:GREGORIAN
METHOD:PUBLISH
BEGIN:VEVENT
UID:69ec3b45e2340
DTSTAMP:20260425T035549Z
DTSTART:20180924T180000Z
DTEND:20180924T230000Z
LOCATION:The Metropolitan Opera Lincoln Center\,  New York\,  New York  10023
SUMMARY:Met Opera Opening Night Gala 2018 September 24
DESCRIPTION:SAINT-SAËNS Samson et Dalila – Met Opera Opening Night Gala
  September 24 New production premiere:  When mezzo-soprano Elina Garanca a
 nd tenor Roberto Alagnajoined forces for a new production of Carmen at the
  Met\,  the results were electrifying. Now this star duo reunites for anoth
 er sensual French opera when they open the season[..]\nhttps://meetmeattheo
 pera.com/events/met-opera-opening-night-gala-2018-september-24/
URL:https://meetmeattheopera.com/events/met-opera-opening-night-gala-2018-september-24/
END:VEVENT
END:VCALENDAR