BEGIN:VCALENDAR
VERSION:2.0
PRODID:-//eventon.com NONSGML v1.0//EN
CALSCALE:GREGORIAN
METHOD:PUBLISH
BEGIN:VEVENT
UID:69ec381749497
DTSTAMP:20260425T034215Z
DTSTART:20160320T150000Z
DTEND:20160320T220000Z
LOCATION:New York.Hunter College. Ida K. Lang Recital Hall theater space at Hunter College  E 69th Street Between Park Ave and Lexington Ave\,  4th Floor New York\,  NY 10065 United States
SUMMARY:Henry Purcell. Dido & Aeneas / King Arthur
DESCRIPTION:Utopia Opera Presents: Dido &amp; Aeneas / King Arthur. Two op
 eras by Henry Purcell Friday\,  March 18 &#8211; 7:30pm Saturday\,   Marc
 h 19 &#8211; 7:30pm Sunday\,   March 20 &#8211; 3:00pm You&#8217;ll laugh
 . You&#8217;ll cry. You&#8217;ll get Saxon blood sacrifices all over your n
 ew shirt. DON&#8217;T MISS IT! Ida K. Lang Recital Hall theater space[..]\n
 https://meetmeattheopera.com/events/dido-aeneas-king-arthur/
URL:https://meetmeattheopera.com/events/dido-aeneas-king-arthur/
END:VEVENT
END:VCALENDAR