BEGIN:VCALENDAR
VERSION:2.0
PRODID:-//eventon.com NONSGML v1.0//EN
CALSCALE:GREGORIAN
METHOD:PUBLISH
BEGIN:VEVENT
UID:69eaeb5e0700e
DTSTAMP:20260424T040238Z
DTSTART:20210514T190000Z
DTEND:20210514T230000Z
LOCATION:
SUMMARY:Y
DESCRIPTION:NYC’s Best Performing Artists Show Presented by Club Meet Me 
 At The Opera. Every Friday Night: Join in Person or via Live Stream. https:
 //meetmeattheopera.com/nycs-best-performing-artists-show-presented-by-club-
 meet-me-at-the-opera-every-friday-night-join-in-person-or-via-live-stream-2
 /\nhttps://meetmeattheopera.com/events/y/
URL:https://meetmeattheopera.com/events/y/
END:VEVENT
END:VCALENDAR