BEGIN:VCALENDAR
VERSION:2.0
PRODID:-//eventon.com NONSGML v1.0//EN
CALSCALE:GREGORIAN
METHOD:PUBLISH
BEGIN:VEVENT
UID:69ec141f3e512
DTSTAMP:20260425T010847Z
DTSTART:20201225T010000Z
DTEND:20220617T010000Z
LOCATION:
SUMMARY:FREE Stream La Traviata Opera | Grand Opera | Teatro Real\,  Madrid
DESCRIPTION:Free Stream La Traviata Opera | Grand Opera | Teatro Real\,  Ma
 drid https://www.youtube.com/watch?v=Mz5S0cqf8xM Composer: Giuseppe Verdi O
 pera: La Traviata Performers: Violetta Valéry – Ermonela Yaho\,  Giorgio
  Germont – Juan Jesús Rodríguez\,  Alfred Germont-Francesco Demura\,  F
 lora Belloy-Marife Nogales\,  Annina-Martha Was Killed\,  Gaston-Albert Cas
 als\,  Dr. Grenville-RADO Rado\,  Giuseppe – Alejandro Gonzalez\,  Marqui
 s[..]\nhttps://meetmeattheopera.com/events/free-stream-la-traviata-opera-gr
 and-opera-teatro-real-madrid/
URL:https://meetmeattheopera.com/events/free-stream-la-traviata-opera-grand-opera-teatro-real-madrid/
END:VEVENT
END:VCALENDAR