BEGIN:VCALENDAR
VERSION:2.0
PRODID:-//eventon.com NONSGML v1.0//EN
CALSCALE:GREGORIAN
METHOD:PUBLISH
BEGIN:VEVENT
UID:69e98fca7a929
DTSTAMP:20260423T031938Z
DTSTART:20200321T010000Z
DTEND:20230502T010000Z
LOCATION:
SUMMARY:Free Stream. Tchaikovsky: Swan Lake - The Kirov Ballet. Mariinsky Theater
DESCRIPTION:Free Stream. Tchaikovsky: Swan Lake &#8211; The Kirov Ballet. M
 ariinsky Theater Yulia Makhalina dances the challenging role of Odette/Odil
 e while the part of Prince Siegfried is danced by Igor Zelensky\nhttps://me
 etmeattheopera.com/events/free-stream-tchaikovsky-swan-lake-the-kirov-balle
 t-mariinsky-theater/
URL:https://meetmeattheopera.com/events/free-stream-tchaikovsky-swan-lake-the-kirov-ballet-mariinsky-theater/
END:VEVENT
END:VCALENDAR