BEGIN:VCALENDAR
VERSION:2.0
PRODID:-//eventon.com NONSGML v1.0//EN
CALSCALE:GREGORIAN
METHOD:PUBLISH
BEGIN:VEVENT
UID:69e97b78ed429
DTSTAMP:20260423T015256Z
DTSTART:20200628T130000Z
DTEND:20220319T130000Z
LOCATION:
SUMMARY:Free Stream HAMILTON : An American Musical full Broadway show
DESCRIPTION:Free Stream Hamilton: An American Musical full Broadway show St
 ream Here &nbsp; Hamilton: An American Musical | FULL SOUNDTRACK W/ LYRICS 
 Hamilton Full Musical Animatic Free Stream HAMILTON Hamilton is a musical 
 with music\,  lyrics\,  and book by Lin-Manuel Miranda that tells the sto
 ry of American Founding Father Alexander Hamilton. Inspired by the 2004 b
 iographyAlexander[..]\nhttps://meetmeattheopera.com/events/free-stream-hami
 lton-an-american-musical-full-broadway-show/
URL:https://meetmeattheopera.com/events/free-stream-hamilton-an-american-musical-full-broadway-show/
END:VEVENT
END:VCALENDAR