BEGIN:VCALENDAR
VERSION:2.0
PRODID:-//eventon.com NONSGML v1.0//EN
CALSCALE:GREGORIAN
METHOD:PUBLISH
BEGIN:VEVENT
UID:69e9deca4f26e
DTSTAMP:20260423T085642Z
DTSTART:20200628T092000Z
DTEND:20200702T192000Z
LOCATION:
SUMMARY:Free Live Stream A Midsummer Night’s Dream British Bridge Theatre Fundraiser National Theatre at Home Full Performance\,  Available till July 2nd.
DESCRIPTION:Free Live Stream A Midsummer Night’s Dream British Bridge The
 atre Fundraiser National Theatre at Home Full Performance\,  Available till
  July 2nd. STREAM HERE: https://www.youtube.com/watch?v=Punzss5sHto &nbsp; 
 Watch the Bridge Theatre’s magical and immersive production of A Midsumme
 r Night’s Dream. ‘Are you sure that we are awake? It seems to me that[.
 .]\nhttps://meetmeattheopera.com/events/free-live-stream-a-midsummer-nights
 -dream-british-bridge-theatre-fundraiser-national-theatre-at-home-full-perf
 ormance-available-till-july-2nd/
URL:https://meetmeattheopera.com/events/free-live-stream-a-midsummer-nights-dream-british-bridge-theatre-fundraiser-national-theatre-at-home-full-performance-available-till-july-2nd/
END:VEVENT
END:VCALENDAR