BEGIN:VCALENDAR
VERSION:2.0
PRODID:-//eventon.com NONSGML v1.0//EN
CALSCALE:GREGORIAN
METHOD:PUBLISH
BEGIN:VEVENT
UID:69e9e3fa601e0
DTSTAMP:20260423T091850Z
DTSTART:20200626T140000Z
DTEND:20200628T190000Z
LOCATION:
SUMMARY:RIGHT NOW LIVE From London Free Stream The Sound Of Music Full Show 48 hours Fundraiser
DESCRIPTION:RIGHT NOW LIVE From London Free Stream The Sound Of Music Full 
 Show 48 hours Fundraiser FREE LIVE TREAM HERE: https://www.youtube.com/watc
 h?time_continue=1355&#038;v=F96i5dcFhZA&#038;feature=emb_logo Rodgers and H
 ammerstein’s timeless musical classic starring Carrie Underwood\,  return
 s is on The Shows Must Go On from 7pm BST\,  11 am PST and 2pm EST Availabl
 e for 48hours[..]\nhttps://meetmeattheopera.com/events/right-now-live-from-
 london-free-stream-the-sound-of-music-full-show-48-hours-fundraiser/
URL:https://meetmeattheopera.com/events/right-now-live-from-london-free-stream-the-sound-of-music-full-show-48-hours-fundraiser/
END:VEVENT
END:VCALENDAR