BEGIN:VCALENDAR
VERSION:2.0
PRODID:-//eventon.com NONSGML v1.0//EN
CALSCALE:GREGORIAN
METHOD:PUBLISH
BEGIN:VEVENT
UID:69e9deca4f1f4
DTSTAMP:20260423T085642Z
DTSTART:20200629T130000Z
DTEND:20220402T130000Z
LOCATION:
SUMMARY:FREE Stream Twice Charmed Musical : An Original Twist on the Cinderella Story
DESCRIPTION:FREE Stream Twice Charmed Musical : An Original Twist on the Ci
 nderella Story FREE Stream HERE: FREE Stream Twice Charmed Musical Publishe
 d by Nadia Kovarskaya Nadia Kovarskaya\, Founder www.MeetMeAtTheOpera.com 
 CONTACT US FOR ADVERTISING AND SPONSORSHIP: phone: (646) 2488782-     em
 ail   info@meetmeattheopera.com Nadia Kovarskaya Society Events &amp; Lif
 e Style Society Club www.MeetMeAtTheOpera.com Society Events[..]\nhttps://
 meetmeattheopera.com/events/free-stream-twice-charmed-musical-an-original-t
 wist-on-the-cinderella-story/
URL:https://meetmeattheopera.com/events/free-stream-twice-charmed-musical-an-original-twist-on-the-cinderella-story/
END:VEVENT
END:VCALENDAR