BEGIN:VCALENDAR
VERSION:2.0
PRODID:-//eventon.com NONSGML v1.0//EN
CALSCALE:GREGORIAN
METHOD:PUBLISH
BEGIN:VEVENT
UID:69e9bd2671fca
DTSTAMP:20260423T063310Z
DTSTART:20200627T130000Z
DTEND:20220227T130000Z
LOCATION:
SUMMARY:FREE Stream Antonio Vivaldi Orlando furioso (Fasolis/ Ceresa) La Fenice Opera House
DESCRIPTION:FREE Stream Antonio Vivaldi Orlando furioso (Fasolis/ Ceresa) L
 a Fenice Opera House FREE Stream HERE: FREE Stream Antonio Vivaldi Orlando 
 furioso (Fasolis/ Ceresa) La Fenice Opera House Published by Nadia Kovarska
 ya Nadia Kovarskaya\, Founder www.MeetMeAtTheOpera.com CONTACT US FOR ADVE
 RTISING AND SPONSORSHIP: phone: (646) 2488782-     email   info@meetme
 attheopera.com Nadia Kovarskaya Society Events &amp;[..]\nhttps://meetmeatt
 heopera.com/events/free-stream-antonio-vivaldi-orlando-furioso-fasolis-cere
 sa-la-fenice-opera-house/
URL:https://meetmeattheopera.com/events/free-stream-antonio-vivaldi-orlando-furioso-fasolis-ceresa-la-fenice-opera-house/
END:VEVENT
END:VCALENDAR