BEGIN:VCALENDAR
VERSION:2.0
PRODID:-//eventon.com NONSGML v1.0//EN
CALSCALE:GREGORIAN
METHOD:PUBLISH
BEGIN:VEVENT
UID:69e9deca4f3dc
DTSTAMP:20260423T085642Z
DTSTART:20200613T053200Z
DTEND:20221125T223000Z
LOCATION:
SUMMARY:FREE Stream Matthew Bourne's Swan Lake Ballet
DESCRIPTION:FREE Stream Matthew Bourne&#8217;s Swan Lake Ballet STREAM HERE
 : https://www.youtube.com/watch?v=stn715nrpRw &nbsp; FREE Stream Matthew Bo
 urne Swan Lake Ballet &nbsp; Published by Nadia Kovarskaya Nadia Kovarskaya
 \, Founder www.MeetMeAtTheOpera.com CONTACT US FOR ADVERTISING AND SPONSOR
 SHIP: phone: (646) 2488782-     email   info@meetmeattheopera.com Nadi
 a Kovarskaya Society Events &amp; Life Style Society Club www.MeetMeAtTheO
 pera.com Society Events Calendar\,  Fine[..]\nhttps://meetmeattheopera.com/
 events/free-stream-matthew-bournes-swan-lake-ballet/
URL:https://meetmeattheopera.com/events/free-stream-matthew-bournes-swan-lake-ballet/
END:VEVENT
END:VCALENDAR