BEGIN:VCALENDAR
VERSION:2.0
PRODID:-//eventon.com NONSGML v1.0//EN
CALSCALE:GREGORIAN
METHOD:PUBLISH
BEGIN:VEVENT
UID:69eb89a7e39db
DTSTAMP:20260424T151759Z
DTSTART:20200426T130000Z
DTEND:20210425T130000Z
LOCATION:
SUMMARY:FREE Stream Verdi's AIDA with Pavarotti Teatro alla Scala
DESCRIPTION:Giuseppe Verdi &#8211; AIDA. Opera (Pavarotti\,  Chiara\,  Dimi
 trova) | Teatro alla Scala\,  1986 STREAM HERE https://www.youtube.com/watc
 h?v=y7N06NEyDPY Aida is an opera in four acts by Giuseppe Verdi to an Itali
 an libretto by Antonio Ghislanzoni. Set in the Old Kingdom of Egypt\,  it w
 as commissioned by Cairo&#8217;s Khedivial Opera House and had[..]\nhttps:/
 /meetmeattheopera.com/events/free-stream-verdis-aida-with-pavarotti-teatro-
 alla-scala/
URL:https://meetmeattheopera.com/events/free-stream-verdis-aida-with-pavarotti-teatro-alla-scala/
END:VEVENT
END:VCALENDAR