BEGIN:VCALENDAR
VERSION:2.0
PRODID:-//eventon.com NONSGML v1.0//EN
CALSCALE:GREGORIAN
METHOD:PUBLISH
BEGIN:VEVENT
UID:69ed2df7c6279
DTSTAMP:20260425T211119Z
DTSTART:20200418T130000Z
DTEND:20210408T130000Z
LOCATION:
SUMMARY:Free Stream Cat’s Broadway Musical Andrew Lloyd Webber’s Masterpiece.
DESCRIPTION:Free Stream Cat’s Broadway Musical Andrew Lloyd Webber’s re
 cord-breaking\,  award-winning\,  family favorite West End and Broadway mus
 ical CATS Andrew Lloyd Webber’s record-breaking\,  award-winning\,  famil
 y favorite West End and Broadway musical CATS Cats is a sung-through mus
 ical composed by Andrew Lloyd Webber\,  based on the 1939 poetry collect
 ion Old Possum’s Book of Practical Cats by T. S. Eliot. It tells[..]\n
 https://meetmeattheopera.com/events/free-stream-cats-broadway-musical-andre
 w-lloyd-webbers-masterpiece/
URL:https://meetmeattheopera.com/events/free-stream-cats-broadway-musical-andrew-lloyd-webbers-masterpiece/
END:VEVENT
END:VCALENDAR