BEGIN:VCALENDAR
VERSION:2.0
PRODID:-//eventon.com NONSGML v1.0//EN
CALSCALE:GREGORIAN
METHOD:PUBLISH
BEGIN:VEVENT
UID:69ed11b8e3092
DTSTAMP:20260425T191048Z
DTSTART:20200325T190000Z
DTEND:20200405T235900Z
LOCATION:
SUMMARY:Metropolitan Opera: Free Nightly Opera Streaming. FULL SCHEDULE.
DESCRIPTION:Metropolitan Opera: Free Nightly Opera Streaming. FULL SCHEDULE
 . Metropolitan Opera: Free Nightly Opera Streaming. FULL SCHEDULE. &nbsp; F
 ree Guide to Free Streams Around The World Published by Nadia Kovarskaya Na
 dia Kovarskaya\, Founder www.MeetMeAtTheOpera.com CONTACT US FOR ADVERTISI
 NG AND SPONSORSHIP: phone: (646) 2488782-     email   info@meetmeatthe
 opera.com Nadia Kovarskaya Society Events &amp; Life Style[..]\nhttps://mee
 tmeattheopera.com/events/metropolitan-opera-free-nightly-opera-streaming-fu
 ll-schedule/
URL:https://meetmeattheopera.com/events/metropolitan-opera-free-nightly-opera-streaming-full-schedule/
END:VEVENT
END:VCALENDAR